BEGIN:VCALENDAR
VERSION:2.0
PRODID:-//eventon.com NONSGML v1.0//EN
CALSCALE:GREGORIAN
METHOD:PUBLISH
BEGIN:VEVENT
UID:69e7392c632ff
DTSTAMP:20260421T084532Z
DTSTART:20230912T170000Z
DTEND:20230912T190000Z
LOCATION:Strib Bådeklub - klubhuset Strandvejen 271
SUMMARY:Bestyrelsesmøde
DESCRIPTION:\nhttps://www.stribbaadeklub.dk/events/bestyrelsesmoede-3/
URL:https://www.stribbaadeklub.dk/events/bestyrelsesmoede-3/
END:VEVENT
END:VCALENDAR